BEGIN:VCALENDAR
VERSION:2.0
PRODID:-//Contratero//ES
CALSCALE:GREGORIAN
METHOD:PUBLISH
BEGIN:VEVENT
UID:SER-27/24 BA@contratero.es
DTSTAMP:20260421T235946Z
DTSTART:20240207T235959
DTEND:20240208T005959
SUMMARY:Cierre: Contratación del servicio de mantenimiento\, soport
DESCRIPTION:Contratación del servicio de mantenimiento\, soporte técnico y actualización del Middleware de integración con la plataforma AppCRUE para la Universidad Politécnica de Madrid\\n\\nOrganismo: Rectorado de la Universidad Politécnica de Madrid\\n\\nVer en Contratero: https://contratero.es/contracts/SER-27/24 BA
URL:https://contratero.es/contracts/SER-27/24 BA
STATUS:CONFIRMED
BEGIN:VALARM
TRIGGER:-P1D
ACTION:DISPLAY
DESCRIPTION:Recordatorio: Contratación del servicio de m
END:VALARM
END:VEVENT
END:VCALENDAR